Workbook

Sheet SKU List
A5: SKU | B5: Description | C5: Cost ($ per unit) | D5: Annual sales (units) | E5: Average sales (units per day)
A6: 123-456789 | B6: Voice Assistant IoT Add-on Box, 4 GB | C6: 50.79 | D6: =SUMIF('Sales History'!$B$4:$B$2195,'SKU List'!A6,'Sales History'!$D$4:$D$2195) -> 13934 | E6: =D6/365 -> 38.175342
A7: 654-2-34 | B7: Voice Assistant IoT Add-on Box, 2 GB | C7: 45.711 | D7: =SUMIF('Sales History'!$B$4:$B$2195,'SKU List'!A7,'Sales History'!$D$4:$D$2195) -> 10428 | E7: =D7/365 -> 28.569863
A8: AB-1035-G | B8: Voice Assistant IoT Add-on Box, 1 GB | C8: 40.632 | D8: =SUMIF('Sales History'!$B$4:$B$2195,'SKU List'!A8,'Sales History'!$D$4:$D$2195) -> 15045 | E8: =D8/365 -> 41.219178
A9: 84325322 | B9: Voice Assistant IoT Add-on Box, 512MG | C9: 35.553 | D9: =SUMIF('Sales History'!$B$4:$B$2195,'SKU List'!A9,'Sales History'!$D$4:$D$2195) -> 7908 | E9: =D9/365 -> 21.665753
A10: 13-23423 | B10: Voice Assistant, component | C10: 5.079 | D10: =SUMIF('Sales History'!$B$4:$B$2195,'SKU List'!A10,'Sales History'!$D$4:$D$2195) -> 14015 | E10: =D10/365 -> 38.39726
A11: 14-34222 | B11: Voice Assistant, module | C11: 10.158 | D11: =SUMIF('Sales History'!$B$4:$B$2195,'SKU List'!A11,'Sales History'!$D$4:$D$2195) -> 13981 | E11: =D11/365 -> 38.30411

Sheet Order History
I4: FILTER SKU for CORRECT COMPUTATIONS ---> | L4: Average Lead Time = | M4: =SUBTOTAL(1,G:G) -> 39.455357 | N4: days | O4: (of filered data!)
L5: StDev of Lead Time = | M5: =SUBTOTAL(7,G:G) -> 5.756138 | N5: days | O5: (of filered data!)
L6: Order Processing Cost = | M6: =SUBTOTAL(1,E:E) -> 181.00208 | N6: per order | O6: (of filered data!)
A7: Date of Order | B7: SKU | C7: Quantity (units) | D7: Purchase Order Cost ($) | E7: Cost to process order, S ($) | F7: Delivery Date | G7: Lead-time (days)
A8: 42736 | B8: 123-456789 | C8: 794.29769 | D8: 40342.379 | E8: 164.94623 | F8: 42785 | G8: =F8-A8 -> 49
A9: 42741 | B9: 654-2-34 | C9: 581.73066 | D9: 26591.49 | E9: 173.51223 | F9: 42779 | G9: =F9-A9 -> 38
A10: 42742 | B10: AB-1035-G | C10: 799.67694 | D10: 32492.473 | E10: 191.66167 | F10: 42772 | G10: =F10-A10 -> 30
A11: 42746 | B11: 84325322 | C11: 419.27979 | D11: 14906.654 | E11: 175.84064 | F11: 42795 | G11: =F11-A11 -> 49
A12: 42749 | B12: 13-23423 | C12: 812.37046 | D12: 41260.296 | E12: 165.23985 | F12: 42793 | G12: =F12-A12 -> 44
A13: 42751 | B13: 14-34222 | C13: 728.06201 | D13: 36978.27 | E13: 180.97237 | F13: 42793 | G13: =F13-A13 -> 42
A14: 42754 | B14: 123-456789 | C14: 720.12945 | D14: 36575.375 | E14: 167.07902 | F14: 42796 | G14: =F14-A14 -> 42
A15: 42758 | B15: 654-2-34 | C15: 534.09017 | D15: 24413.796 | E15: 173.36037 | F15: 42800 | G15: =F15-A15 -> 42
A16: 42763 | B16: AB-1035-G | C16: 738.58101 | D16: 30010.024 | E16: 166.41409 | F16: 42807 | G16: =F16-A16 -> 44
A17: 42766 | B17: 84325322 | C17: 408.63805 | D17: 14528.309 | E17: 172.34489 | F17: 42799 | G17: =F17-A17 -> 33
A18: 42768 | B18: 13-23423 | C18: 711.79186 | D18: 36151.909 | E18: 174.7901 | F18: 42806 | G18: =F18-A18 -> 38
A19: 42770 | B19: 14-34222 | C19: 756.29156 | D19: 38412.048 | E19: 197.05025 | F19: 42800 | G19: =F19-A19 -> 30
A20: 42771 | B20: 123-456789 | C20: 731.10745 | D20: 37132.947 | E20: 172.11049 | F20: 42817 | G20: =F20-A20 -> 46
A21: 42776 | B21: 654-2-34 | C21: 590.23931 | D21: 26980.429 | E21: 188.54007 | F21: 42811 | G21: =F21-A21 -> 35
A22: 42779 | B22: AB-1035-G | C22: 719.74459 | D22: 29244.662 | E22: 179.03787 | F22: 42820 | G22: =F22-A22 -> 41
A23: 42784 | B23: 84325322 | C23: 453.3241 | D23: 16117.032 | E23: 181.97345 | F23: 42824 | G23: =F23-A23 -> 40
A24: 42785 | B24: 13-23423 | C24: 851.24349 | D24: 43234.657 | E24: 179.13138 | F24: 42821 | G24: =F24-A24 -> 36
A25: 42790 | B25: 14-34222 | C25: 710.02944 | D25: 36062.395 | E25: 179.84787 | F25: 42837 | G25: =F25-A25 -> 47
A26: 42794 | B26: 123-456789 | C26: 720.04818 | D26: 36571.247 | E26: 187.42952 | F26: 42838 | G26: =F26-A26 -> 44
A27: 42797 | B27: 654-2-34 | C27: 551.46282 | D27: 25207.917 | E27: 176.29364 | F27: 42834 | G27: =F27-A27 -> 37
A28: 42801 | B28: AB-1035-G | C28: 811.47626 | D28: 32971.903 | E28: 179.4925 | F28: 42840 | G28: =F28-A28 -> 39
A29: 42802 | B29: 84325322 | C29: 428.13045 | D29: 15221.322 | E29: 184.75554 | F29: 42841 | G29: =F29-A29 -> 39
A30: 42803 | B30: 13-23423 | C30: 822.57923 | D30: 41778.799 | E30: 197.32329 | F30: 42852 | G30: =F30-A30 -> 49
A31: 42808 | B31: 14-34222 | C31: 724.32373 | D31: 36788.402 | E31: 185.58215 | F31: 42857 | G31: =F31-A31 -> 49
A32: 42813 | B32: 123-456789 | C32: 680.31243 | D32: 34553.068 | E32: 180.97044 | F32: 42857 | G32: =F32-A32 -> 44
A33: 42816 | B33: 654-2-34 | C33: 600.77612 | D33: 27462.077 | E33: 168.01079 | F33: 42848 | G33: =F33-A33 -> 32
A34: 42821 | B34: AB-1035-G | C34: 818.31482 | D34: 33249.768 | E34: 188.75495 | F34: 42864 | G34: =F34-A34 -> 43
A35: 42826 | B35: 84325322 | C35: 393.96548 | D35: 14006.655 | E35: 187.21807 | F35: 42866 | G35: =F35-A35 -> 40
A36: 42830 | B36: 13-23423 | C36: 758.00609 | D36: 38499.129 | E36: 176.97013 | F36: 42873 | G36: =F36-A36 -> 43
A37: 42832 | B37: 14-34222 | C37: 723.57634 | D37: 36750.442 | E37: 197.33588 | F37: 42876 | G37: =F37-A37 -> 44
A38: 42834 | B38: 123-456789 | C38: 662.02077 | D38: 33624.035 | E38: 197.2586 | F38: 42878 | G38: =F38-A38 -> 44
A39: 42836 | B39: 654-2-34 | C39: 598.81325 | D39: 27372.353 | E39: 194.56883 | F39: 42876 | G39: =F39-A39 -> 40
A40: 42838 | B40: AB-1035-G | C40: 804.91943 | D40: 32705.486 | E40: 186.48604 | F40: 42886 | G40: =F40-A40 -> 48
A41: 42840 | B41: 84325322 | C41: 414.18826 | D41: 14725.635 | E41: 179.38684 | F41: 42876 | G41: =F41-A41 -> 36
A42: 42843 | B42: 13-23423 | C42: 816.0508 | D42: 41447.22 | E42: 179.01105 | F42: 42877 | G42: =F42-A42 -> 34
A43: 42846 | B43: 14-34222 | C43: 721.14406 | D43: 36626.907 | E43: 184.30821 | F43: 42876 | G43: =F43-A43 -> 30
...

Sheet Operating Costs
A1: Corporate Inventory Costs
C2: Annual Expenditures ($) | D2: Source:
A3: Capital Cost | B3: Investment in Inventory | C3: =B18*10.254% -> 461430 | D3: CFO
A5: Inventory service cost | B5: Insurance | C5: =B18*1.3% -> 58500 | D5: CFO
B6: Taxes | C6: =B18*0.05 -> 225000 | D6: CFO
A8: Storage cost | B8: Warehouse (rent) | C8: =12000*12 -> 144000 | D8: CSCO
B9: Operations (labor) | C9: =20*40*4*52 -> 166400 | D9: COO
B10: Operations (utilities) | C10: =C8/9 -> 16000 | D10: CFO
B11: Operations (equipment) | C11: =C8/12 -> 12000 | D11: COO
A13: Risk cost | B13: Obsolescence | C13: 12987 | D13: CSCO | F13: Legend:
B14: Damage | C14: 8234 | D14: CSCO | G14: CFO = Chief Finacial Officer
B15: Pilferage | C15: 865 | D15: CSCO | G15: COO = Chief Operating Officer
B16: Relocation | C16: 2432 | D16: CSCO | G16: CSCO = Chief Supply Chain Officer
A18: Average Inventory | B18: 4500000
A20: Total Annual Inventory Holding Costs ($)
A21: Inventory Holding Cost Rate (% annually)

Sheet Sales History
L1: Total demand = | M1: =SUBTOTAL(9,D:D) -> 75311 | N1: units | O1: (of filered data!)
J2: FILTER SKU for CORRECT COMPUTATIONS ---> | L2: Average demand = | M2: =SUBTOTAL(1,D:D) -> 34.357208 | N2: units per day | O2: (of filered data!)
A3: Date of Sale | B3: SKU | C3: Price (retail, $) | D3: Quantity (units per day) | E3: Cost per unit ($) | F3: Margin (% of cost) | L3: StDev of Demand = | M3: =SUBTOTAL(7,D:D) -> 7.591021 | N3: units per day | O3: (of filered data!)
A4: 42736 | B4: 123-456789 | C4: 63.289629 | D4: 42 | E4: =VLOOKUP(B4,'SKU List'!$A$6:$C$11,3,1) -> 50.79 | F4: =(C4-E4)/E4 -> 0.24610414
A5: 42736 | B5: 654-2-34 | C5: 58.329548 | D5: 25 | E5: =VLOOKUP(B5,'SKU List'!$A$6:$C$11,3,1) -> 45.711 | F5: =(C5-E5)/E5 -> 0.27605058
A6: 42736 | B6: AB-1035-G | C6: 48.669653 | D6: 44 | E6: =VLOOKUP(B6,'SKU List'!$A$6:$C$11,3,1) -> 40.632 | F6: =(C6-E6)/E6 -> 0.19781582
A7: 42736 | B7: 84325322 | C7: 43.997719 | D7: 20 | E7: =VLOOKUP(B7,'SKU List'!$A$6:$C$11,3,1) -> 35.553 | F7: =(C7-E7)/E7 -> 0.2375248
A8: 42736 | B8: 13-23423 | C8: 59.459186 | D8: 43 | E8: =VLOOKUP(B8,'SKU List'!$A$6:$C$11,3,1) -> 50.79 | F8: =(C8-E8)/E8 -> 0.17068687
A9: 42736 | B9: 14-34222 | C9: 56.651413 | D9: 37 | E9: =VLOOKUP(B9,'SKU List'!$A$6:$C$11,3,1) -> 50.79 | F9: =(C9-E9)/E9 -> 0.11540486
A10: 42737 | B10: 123-456789 | C10: 58.158539 | D10: 39 | E10: =VLOOKUP(B10,'SKU List'!$A$6:$C$11,3,1) -> 50.79 | F10: =(C10-E10)/E10 -> 0.14507854
A11: 42737 | B11: 654-2-34 | C11: 54.587801 | D11: 28 | E11: =VLOOKUP(B11,'SKU List'!$A$6:$C$11,3,1) -> 45.711 | F11: =(C11-E11)/E11 -> 0.19419398
A12: 42737 | B12: AB-1035-G | C12: 52.64064 | D12: 47 | E12: =VLOOKUP(B12,'SKU List'!$A$6:$C$11,3,1) -> 40.632 | F12: =(C12-E12)/E12 -> 0.29554638
A13: 42737 | B13: 84325322 | C13: 42.494423 | D13: 24 | E13: =VLOOKUP(B13,'SKU List'!$A$6:$C$11,3,1) -> 35.553 | F13: =(C13-E13)/E13 -> 0.19524155
A14: 42737 | B14: 13-23423 | C14: 57.609022 | D14: 38 | E14: =VLOOKUP(B14,'SKU List'!$A$6:$C$11,3,1) -> 50.79 | F14: =(C14-E14)/E14 -> 0.13425914
A15: 42737 | B15: 14-34222 | C15: 59.74148 | D15: 42 | E15: =VLOOKUP(B15,'SKU List'!$A$6:$C$11,3,1) -> 50.79 | F15: =(C15-E15)/E15 -> 0.17624493
A16: 42738 | B16: 123-456789 | C16: 58.462174 | D16: 44 | E16: =VLOOKUP(B16,'SKU List'!$A$6:$C$11,3,1) -> 50.79 | F16: =(C16-E16)/E16 -> 0.15105678
A17: 42738 | B17: 654-2-34 | C17: 53.304451 | D17: 33 | E17: =VLOOKUP(B17,'SKU List'!$A$6:$C$11,3,1) -> 45.711 | F17: =(C17-E17)/E17 -> 0.16611868
A18: 42738 | B18: AB-1035-G | C18: 45.309574 | D18: 48 | E18: =VLOOKUP(B18,'SKU List'!$A$6:$C$11,3,1) -> 40.632 | F18: =(C18-E18)/E18 -> 0.11512046
A19: 42738 | B19: 84325322 | C19: 41.231594 | D19: 22 | E19: =VLOOKUP(B19,'SKU List'!$A$6:$C$11,3,1) -> 35.553 | F19: =(C19-E19)/E19 -> 0.15972194
A20: 42738 | B20: 13-23423 | C20: 63.580812 | D20: 39 | E20: =VLOOKUP(B20,'SKU List'!$A$6:$C$11,3,1) -> 50.79 | F20: =(C20-E20)/E20 -> 0.2518372
A21: 42738 | B21: 14-34222 | C21: 63.274029 | D21: 36 | E21: =VLOOKUP(B21,'SKU List'!$A$6:$C$11,3,1) -> 50.79 | F21: =(C21-E21)/E21 -> 0.24579699
A22: 42739 | B22: 123-456789 | C22: 58.406705 | D22: 34 | E22: =VLOOKUP(B22,'SKU List'!$A$6:$C$11,3,1) -> 50.79 | F22: =(C22-E22)/E22 -> 0.14996465
A23: 42739 | B23: 654-2-34 | C23: 52.839102 | D23: 29 | E23: =VLOOKUP(B23,'SKU List'!$A$6:$C$11,3,1) -> 45.711 | F23: =(C23-E23)/E23 -> 0.15593843
A24: 42739 | B24: AB-1035-G | C24: 49.84803 | D24: 40 | E24: =VLOOKUP(B24,'SKU List'!$A$6:$C$11,3,1) -> 40.632 | F24: =(C24-E24)/E24 -> 0.22681705
A25: 42739 | B25: 84325322 | C25: 45.158679 | D25: 20 | E25: =VLOOKUP(B25,'SKU List'!$A$6:$C$11,3,1) -> 35.553 | F25: =(C25-E25)/E25 -> 0.27017915
A26: 42739 | B26: 13-23423 | C26: 64.573532 | D26: 40 | E26: =VLOOKUP(B26,'SKU List'!$A$6:$C$11,3,1) -> 50.79 | F26: =(C26-E26)/E26 -> 0.27138279
A27: 42739 | B27: 14-34222 | C27: 62.657811 | D27: 33 | E27: =VLOOKUP(B27,'SKU List'!$A$6:$C$11,3,1) -> 50.79 | F27: =(C27-E27)/E27 -> 0.23366432
A28: 42740 | B28: 123-456789 | C28: 65.303491 | D28: 33 | E28: =VLOOKUP(B28,'SKU List'!$A$6:$C$11,3,1) -> 50.79 | F28: =(C28-E28)/E28 -> 0.28575489
A29: 42740 | B29: 654-2-34 | C29: 53.743701 | D29: 25 | E29: =VLOOKUP(B29,'SKU List'!$A$6:$C$11,3,1) -> 45.711 | F29: =(C29-E29)/E29 -> 0.17572796
A30: 42740 | B30: AB-1035-G | C30: 51.717701 | D30: 39 | E30: =VLOOKUP(B30,'SKU List'!$A$6:$C$11,3,1) -> 40.632 | F30: =(C30-E30)/E30 -> 0.27283178
A31: 42740 | B31: 84325322 | C31: 39.582632 | D31: 21 | E31: =VLOOKUP(B31,'SKU List'!$A$6:$C$11,3,1) -> 35.553 | F31: =(C31-E31)/E31 -> 0.11334156
A32: 42740 | B32: 13-23423 | C32: 60.523961 | D32: 42 | E32: =VLOOKUP(B32,'SKU List'!$A$6:$C$11,3,1) -> 50.79 | F32: =(C32-E32)/E32 -> 0.19165112
A33: 42740 | B33: 14-34222 | C33: 55.929107 | D33: 36 | E33: =VLOOKUP(B33,'SKU List'!$A$6:$C$11,3,1) -> 50.79 | F33: =(C33-E33)/E33 -> 0.10118345
A34: 42741 | B34: 123-456789 | C34: 62.380798 | D34: 42 | E34: =VLOOKUP(B34,'SKU List'!$A$6:$C$11,3,1) -> 50.79 | F34: =(C34-E34)/E34 -> 0.22821024
A35: 42741 | B35: 654-2-34 | C35: 52.264148 | D35: 26 | E35: =VLOOKUP(B35,'SKU List'!$A$6:$C$11,3,1) -> 45.711 | F35: =(C35-E35)/E35 -> 0.14336043
A36: 42741 | B36: AB-1035-G | C36: 48.779252 | D36: 47 | E36: =VLOOKUP(B36,'SKU List'!$A$6:$C$11,3,1) -> 40.632 | F36: =(C36-E36)/E36 -> 0.20051318
A37: 42741 | B37: 84325322 | C37: 40.409005 | D37: 20 | E37: =VLOOKUP(B37,'SKU List'!$A$6:$C$11,3,1) -> 35.553 | F37: =(C37-E37)/E37 -> 0.13658496
A38: 42741 | B38: 13-23423 | C38: 58.188419 | D38: 40 | E38: =VLOOKUP(B38,'SKU List'!$A$6:$C$11,3,1) -> 50.79 | F38: =(C38-E38)/E38 -> 0.14566685
A39: 42741 | B39: 14-34222 | C39: 64.631778 | D39: 35 | E39: =VLOOKUP(B39,'SKU List'!$A$6:$C$11,3,1) -> 50.79 | F39: =(C39-E39)/E39 -> 0.2725296
A40: 42742 | B40: 123-456789 | C40: 60.735663 | D40: 39 | E40: =VLOOKUP(B40,'SKU List'!$A$6:$C$11,3,1) -> 50.79 | F40: =(C40-E40)/E40 -> 0.19581931
...

Sheet Sales Forecast
B1: Note -- items in ORANGE have been removed from computations. | J1: U.S. Census Bureau (reference: https://www.census.gov/programs-surveys/popest/data/data-sets.html)
A2: SUMLEV | B2: REGION | C2: DIVISION | D2: STATE | E2: NAME | F2: POPESTIMATE2017 | H2: SUMLEV | I2: REGION | J2: DIVISION | K2: STATE | L2: NAME | M2: POPESTIMATE2017 | N2: Percentage of Sales | O2: Annual Sales Forecast (units) | P2: EOQ (units) | Q2: ROP (units) | R2: Number of Orders per Year that you'll make as the Purchasing Agent
H3: 10 | I3: 0 | J3: 0 | K3: 0 | L3: United States | M3: =SUM(F4:F55)-F5-F15-F55 -> 323551845 | N3: 1
A4: 40 | B4: 3 | C4: 6 | D4: 1 | E4: Alabama | F4: 4874747
A5: 40 | B5: 4 | C5: 9 | D5: 2 | E5: Alaska | F5: 739795 | H5: SUMLEV | I5: REGION | J5: DIVISION | K5: STATE | N5: Note -- to compute these values, use the computed results below that are pulled from previous worksheets
A6: 40 | B6: 4 | C6: 8 | D6: 4 | E6: Arizona | F6: 7016270 | H6: 20 | I6: 1 | J6: 0 | K6: 0 | L6: Northeast Region | M6: =SUMIF($B$4:$B$55,I6,$F$4:$F$55) -> 56470581
A7: 40 | B7: 3 | C7: 7 | D7: 5 | E7: Arkansas | F7: 3004279 | H7: 20 | I7: 2 | J7: 0 | K7: 0 | L7: Midwest Region | M7: =SUMIF($B$4:$B$55,I7,$F$4:$F$55) -> 68179351
A8: 40 | B8: 4 | C8: 9 | D8: 6 | E8: California | F8: 39536653 | H8: 20 | I8: 3 | J8: 0 | K8: 0 | L8: South Region | M8: =SUMIF($B$4:$B$55,I8,$F$4:$F$55) -> 123658624
A9: 40 | B9: 4 | C9: 8 | D9: 8 | E9: Colorado | F9: 5607154 | H9: 20 | I9: 4 | J9: 0 | K9: 0 | L9: West Region | M9: =SUMIF($B$4:$B$55,I9,$F$4:$F$55)-F5-F15 -> 75243289
A10: 40 | B10: 1 | C10: 1 | D10: 9 | E10: Connecticut | F10: 3588184
A11: 40 | B11: 3 | C11: 5 | D11: 10 | E11: Delaware | F11: 961939
A12: 40 | B12: 3 | C12: 5 | D12: 11 | E12: District of Columbia | F12: 693972 | H12: Analysis: | J12: NOTE -- data sheets MUST BE FILTERED if a single SKU is required.
A13: 40 | B13: 3 | C13: 5 | D13: 12 | E13: Florida | F13: 20984400 | I13: Demand = | J13: (computed by region, see above)
A14: 40 | B14: 3 | C14: 5 | D14: 13 | E14: Georgia | F14: 10429379 | I14: Order Processing Cost = | J14: ='Order History'!M6 -> 181.00208 | K14: per order
A15: 40 | B15: 4 | C15: 9 | D15: 15 | E15: Hawaii | F15: 1427538 | I15: Inventory Holding Cost Rate = | J15: ='Operating Costs'!C21 -> 0 | K15: annually
A16: 40 | B16: 4 | C16: 8 | D16: 16 | E16: Idaho | F16: 1716943 | I16: Cost per Unit = | J16: ='SKU List'!C6 -> 50.79
A17: 40 | B17: 2 | C17: 3 | D17: 17 | E17: Illinois | F17: 12802023 | I17: Lead time = | J17: ='Order History'!M4 -> 39.455357 | K17: days
A18: 40 | B18: 2 | C18: 3 | D18: 18 | E18: Indiana | F18: 6666818 | I18: StDev of Lead Time = | J18: ='Order History'!M5 -> 5.756138 | K18: days
A19: 40 | B19: 2 | C19: 4 | D19: 19 | E19: Iowa | F19: 3145711 | I19: StDev of Demand = | J19: ='Sales History'!M3 -> 7.591021 | K19: units
A20: 40 | B20: 2 | C20: 4 | D20: 20 | E20: Kansas | F20: 2913123 | I20: Service level = | J20: 0.94 | K20: (assumption for high service but avoiding higher costs)
A21: 40 | B21: 3 | C21: 6 | D21: 21 | E21: Kentucky | F21: 4454189 | I21: z = | J21: =_xlfn.NORM.S.INV(J20) -> 1.5547736
A22: 40 | B22: 3 | C22: 7 | D22: 22 | E22: Louisiana | F22: 4684333
A23: 40 | B23: 1 | C23: 1 | D23: 23 | E23: Maine | F23: 1335907
A24: 40 | B24: 3 | C24: 5 | D24: 24 | E24: Maryland | F24: 6052177
A25: 40 | B25: 1 | C25: 1 | D25: 25 | E25: Massachusetts | F25: 6859819
A26: 40 | B26: 2 | C26: 3 | D26: 26 | E26: Michigan | F26: 9962311
A27: 40 | B27: 2 | C27: 4 | D27: 27 | E27: Minnesota | F27: 5576606
A28: 40 | B28: 3 | C28: 6 | D28: 28 | E28: Mississippi | F28: 2984100
A29: 40 | B29: 2 | C29: 4 | D29: 29 | E29: Missouri | F29: 6113532
A30: 40 | B30: 4 | C30: 8 | D30: 30 | E30: Montana | F30: 1050493
A31: 40 | B31: 2 | C31: 4 | D31: 31 | E31: Nebraska | F31: 1920076
A32: 40 | B32: 4 | C32: 8 | D32: 32 | E32: Nevada | F32: 2998039
A33: 40 | B33: 1 | C33: 1 | D33: 33 | E33: New Hampshire | F33: 1342795
... A54: 40 | B54: 4 | C54: 8 | D54: 56 | E54: Wyoming | F54: 579315
A55: 40 | B55: X | C55: X | D55: 72 | E55: Puerto Rico | F55: 3337177

Sheet Modes
B1: Transporation Service Matrix
D3: Cost
C4: Modes | D4: Fixed | E4: Variable | F4: Speed | G4: Flexibility
C5: Truck
C6: Rail
C7: Air
C8: Water
C9: Pipeline
C10: Intermodal
B12: Ports of Entry
D14: Distribution Center | E14: Port of Entry (from Africa) | F14: Mode to DC | G14: Port of Entry (from Asia) | H14: Mode to DC
C15: Northeast Region
C16: Midwest Region
C17: South Region
C18: West Region

Sheet Location Decision
E1: North/South | F1: East/West
E2: Y | F2: X
B3: Distribution Center | C3: Annual Demand, D (units) | D3: Qualitative Estimate of DC Location | E3: Lattitude (LAT) | F3: Longitude (LON) | G3: D*LAT | H3: D*LON
B4: Northeast Region | C4: ='Sales Forecast'!O6 -> 0
B5: Midwest Region | C5: ='Sales Forecast'!O7 -> 0
B6: South Region | C6: ='Sales Forecast'!O8 -> 0
B7: West Region | C7: ='Sales Forecast'!O9 -> 0
B8: TOTAL | C8: =SUM(C4:C7) -> 0 | F8: Sum -->
C10: Recommended Source: | D10: https://www.latlong.net/
D11: (or other reference)
E13: Lattitude (LAT) | F13: Longitude (LON)
D14: New location Nation-wide Fulfillment Center
D15: City/State

Sheet SCM
B2: Key Supply Chain Partners
C3: Key Supplier | E3: Key Customer
B4: Name
B5: Product
B6: Contact information
B7: Type of Relationship
I9: Insert timeline here……
C10: Timeline | D10: SCOR Process | E10: Lead | F10: Supplier contact | G10: Duration | H10: Issues
C11: 1
C12: 2
C13: 3
C14: 4
C15: 5
C16: 6
C19: Enablers | F19: Technology Enhancement
C20: 1
C21: 2
C22: 3
C23: 4
